BEGIN:VCALENDAR
VERSION:2.0
PRODID:-//Green Space Romeo - ECPv6.15.20//NONSGML v1.0//EN
CALSCALE:GREGORIAN
METHOD:PUBLISH
X-WR-CALNAME:Green Space Romeo
X-ORIGINAL-URL:https://www.greenspaceromeo.org
X-WR-CALDESC:Events for Green Space Romeo
REFRESH-INTERVAL;VALUE=DURATION:PT1H
X-Robots-Tag:noindex
X-PUBLISHED-TTL:PT1H
BEGIN:VTIMEZONE
TZID:America/Detroit
BEGIN:DAYLIGHT
TZOFFSETFROM:-0500
TZOFFSETTO:-0400
TZNAME:EDT
DTSTART:20230312T070000
END:DAYLIGHT
BEGIN:STANDARD
TZOFFSETFROM:-0400
TZOFFSETTO:-0500
TZNAME:EST
DTSTART:20231105T060000
END:STANDARD
BEGIN:DAYLIGHT
TZOFFSETFROM:-0500
TZOFFSETTO:-0400
TZNAME:EDT
DTSTART:20240310T070000
END:DAYLIGHT
BEGIN:STANDARD
TZOFFSETFROM:-0400
TZOFFSETTO:-0500
TZNAME:EST
DTSTART:20241103T060000
END:STANDARD
BEGIN:DAYLIGHT
TZOFFSETFROM:-0500
TZOFFSETTO:-0400
TZNAME:EDT
DTSTART:20250309T070000
END:DAYLIGHT
BEGIN:STANDARD
TZOFFSETFROM:-0400
TZOFFSETTO:-0500
TZNAME:EST
DTSTART:20251102T060000
END:STANDARD
END:VTIMEZONE
BEGIN:VEVENT
DTSTART;TZID=America/Detroit:20240415T190000
DTEND;TZID=America/Detroit:20240415T210000
DTSTAMP:20260421T003416
CREATED:20240310T011324Z
LAST-MODIFIED:20240310T011417Z
UID:615-1713207600-1713214800@www.greenspaceromeo.org
SUMMARY:Village Board of Trustees April Meeting
DESCRIPTION:GSOPS provides a monthly update to the Board of Trustees and green space advocates are encouraged to voice your support in public comment for the acquisition and preservation of 297 Prospect Street as public green space. Village Board agenda is available at villageofromeo.com.
URL:https://www.greenspaceromeo.org/event/village-board-of-trustees-april-meeting/
LOCATION:Romeo Community Center South Building\, 361 Morton Street\, Romeo\, MI\, 48065\, United States
ATTACH;FMTTYPE=image/webp:https://www.greenspaceromeo.org/wp-content/uploads/2024/03/hp-romeo-clock-1600x400-1.webp
END:VEVENT
BEGIN:VEVENT
DTSTART;TZID=America/Detroit:20240404T190000
DTEND;TZID=America/Detroit:20240404T203000
DTSTAMP:20260421T003416
CREATED:20240310T005744Z
LAST-MODIFIED:20240401T233636Z
UID:603-1712257200-1712262600@www.greenspaceromeo.org
SUMMARY:GSOPS *April 4* Community Meeting
DESCRIPTION:*New Date* Please join GSOPS for an update on the acquisition and preservation of 297 Prospect Street as public green space and join in the discussion with other green space advocates. Contact Donna at greenspaceromeo@gmail.com for more information. \nWe have a terrific evening planned. Here’s the agenda \n\nWelcome!\nA musical surprise and inspiration from Ed Kiefer\nProject and fundraising updates\nEvent update – This Place Matters\nDiscussion
URL:https://www.greenspaceromeo.org/event/gsops-community-meeting/
LOCATION:Romeo Community Center – Room TBD\, 361 Morton Street\, Romeo\, 48065\, United States
ATTACH;FMTTYPE=image/webp:https://www.greenspaceromeo.org/wp-content/uploads/2024/03/PXL_20240316_180754359.MP_.webp
END:VEVENT
BEGIN:VEVENT
DTSTART;TZID=America/Detroit:20240318T190000
DTEND;TZID=America/Detroit:20240318T210000
DTSTAMP:20260421T003416
CREATED:20240310T011133Z
LAST-MODIFIED:20240310T011502Z
UID:612-1710788400-1710795600@www.greenspaceromeo.org
SUMMARY:Village Board of Trustees March Meeting
DESCRIPTION:GSOPS provides a monthly update to the Board of Trustees and green space advocates are encouraged to voice your support in public comment for the acquisition and preservation of 297 Prospect Street as public green space. Village Board agenda is available at villageofromeo.com.
URL:https://www.greenspaceromeo.org/event/village-board-of-trustees-march-meeting/
LOCATION:Romeo Community Center South Building\, 361 Morton Street\, Romeo\, MI\, 48065\, United States
ATTACH;FMTTYPE=image/webp:https://www.greenspaceromeo.org/wp-content/uploads/2024/03/hp-romeo-clock-1600x400-1.webp
END:VEVENT
END:VCALENDAR