BEGIN:VCALENDAR
VERSION:2.0
PRODID:-//Green Space Romeo - ECPv6.15.20//NONSGML v1.0//EN
CALSCALE:GREGORIAN
METHOD:PUBLISH
X-ORIGINAL-URL:https://www.greenspaceromeo.org
X-WR-CALDESC:Events for Green Space Romeo
REFRESH-INTERVAL;VALUE=DURATION:PT1H
X-Robots-Tag:noindex
X-PUBLISHED-TTL:PT1H
BEGIN:VTIMEZONE
TZID:America/Detroit
BEGIN:DAYLIGHT
TZOFFSETFROM:-0500
TZOFFSETTO:-0400
TZNAME:EDT
DTSTART:20230312T070000
END:DAYLIGHT
BEGIN:STANDARD
TZOFFSETFROM:-0400
TZOFFSETTO:-0500
TZNAME:EST
DTSTART:20231105T060000
END:STANDARD
BEGIN:DAYLIGHT
TZOFFSETFROM:-0500
TZOFFSETTO:-0400
TZNAME:EDT
DTSTART:20240310T070000
END:DAYLIGHT
BEGIN:STANDARD
TZOFFSETFROM:-0400
TZOFFSETTO:-0500
TZNAME:EST
DTSTART:20241103T060000
END:STANDARD
BEGIN:DAYLIGHT
TZOFFSETFROM:-0500
TZOFFSETTO:-0400
TZNAME:EDT
DTSTART:20250309T070000
END:DAYLIGHT
BEGIN:STANDARD
TZOFFSETFROM:-0400
TZOFFSETTO:-0500
TZNAME:EST
DTSTART:20251102T060000
END:STANDARD
END:VTIMEZONE
BEGIN:VEVENT
DTSTART;TZID=America/Detroit:20240723T183000
DTEND;TZID=America/Detroit:20240723T200000
DTSTAMP:20260423T080143
CREATED:20240713T201201Z
LAST-MODIFIED:20240714T150352Z
UID:1634-1721759400-1721764800@www.greenspaceromeo.org
SUMMARY:GSOPS Community Meeting and Pizza!
DESCRIPTION:We have a Community Meeting scheduled on Tuesday\, July 23nd at 6:30 at Community Center on Morton Street. We will bring pizzas again! It’s been a busy month. Here are some things to talk about and report on. \n\nReport on Gardens and Green Space and Afterglow\nUpdate on Board of Education communication\nGreen space schematic site plan – and your input!\nEducation research / committee\nOur Stories update\nGrants and donations plan / committee\nAcquisition strategy\nLong-term strategic planning
URL:https://www.greenspaceromeo.org/event/gsops-community-meeting-3/
LOCATION:Romeo Community Center – Room TBD\, 361 Morton Street\, Romeo\, 48065\, United States
ATTACH;FMTTYPE=image/webp:https://www.greenspaceromeo.org/wp-content/uploads/2024/07/GW-Afterglow-16-9.webp
END:VEVENT
END:VCALENDAR