BEGIN:VCALENDAR
VERSION:2.0
PRODID:-//Green Space Romeo - ECPv6.15.20//NONSGML v1.0//EN
CALSCALE:GREGORIAN
METHOD:PUBLISH
X-ORIGINAL-URL:https://www.greenspaceromeo.org
X-WR-CALDESC:Events for Green Space Romeo
REFRESH-INTERVAL;VALUE=DURATION:PT1H
X-Robots-Tag:noindex
X-PUBLISHED-TTL:PT1H
BEGIN:VTIMEZONE
TZID:America/Detroit
BEGIN:DAYLIGHT
TZOFFSETFROM:-0500
TZOFFSETTO:-0400
TZNAME:EDT
DTSTART:20230312T070000
END:DAYLIGHT
BEGIN:STANDARD
TZOFFSETFROM:-0400
TZOFFSETTO:-0500
TZNAME:EST
DTSTART:20231105T060000
END:STANDARD
BEGIN:DAYLIGHT
TZOFFSETFROM:-0500
TZOFFSETTO:-0400
TZNAME:EDT
DTSTART:20240310T070000
END:DAYLIGHT
BEGIN:STANDARD
TZOFFSETFROM:-0400
TZOFFSETTO:-0500
TZNAME:EST
DTSTART:20241103T060000
END:STANDARD
BEGIN:DAYLIGHT
TZOFFSETFROM:-0500
TZOFFSETTO:-0400
TZNAME:EDT
DTSTART:20250309T070000
END:DAYLIGHT
BEGIN:STANDARD
TZOFFSETFROM:-0400
TZOFFSETTO:-0500
TZNAME:EST
DTSTART:20251102T060000
END:STANDARD
END:VTIMEZONE
BEGIN:VEVENT
DTSTART;TZID=America/Detroit:20240828T183000
DTEND;TZID=America/Detroit:20240828T200000
DTSTAMP:20260423T080153
CREATED:20240824T173401Z
LAST-MODIFIED:20240824T173523Z
UID:1732-1724869800-1724875200@www.greenspaceromeo.org
SUMMARY:GSOPS Community Meeting
DESCRIPTION:We can’t believe summer is almost over and the Peach Festival is almost here! \nGSOPS is marching in the Peach Festival parade! Care to join us? We’d love to have a great showing in support of our project. We will also have a table to talk to folks and hand out information. Please reply to this email if you’d like to volunteer. \nWe have a Community Meeting scheduled on Wednesday\, August 28 at 6:30 in the Silver Room at the Community Center on Morton Street. We will bring pizzas again! \nLet’s discuss our status and some exciting opportunities that have come up. \n\nPeach Festival\nGreen space development and maintenance budget\nGrants and donations plan / committee\nEducation research / committee\nOur Stories update\nLong-term strategic planning
URL:https://www.greenspaceromeo.org/event/gsops-community-meeting-4/
LOCATION:Silver Room\, Romeo Community Center\, 361 Morton Street\, Romeo\, MI\, 48065\, United States
ATTACH;FMTTYPE=image/webp:https://www.greenspaceromeo.org/wp-content/uploads/2024/08/GSOPS-Tree-.webp
END:VEVENT
END:VCALENDAR