BEGIN:VCALENDAR
VERSION:2.0
PRODID:-//Green Space Romeo - ECPv6.15.20//NONSGML v1.0//EN
CALSCALE:GREGORIAN
METHOD:PUBLISH
X-WR-CALNAME:Green Space Romeo
X-ORIGINAL-URL:https://www.greenspaceromeo.org
X-WR-CALDESC:Events for Green Space Romeo
REFRESH-INTERVAL;VALUE=DURATION:PT1H
X-Robots-Tag:noindex
X-PUBLISHED-TTL:PT1H
BEGIN:VTIMEZONE
TZID:America/Detroit
BEGIN:DAYLIGHT
TZOFFSETFROM:-0500
TZOFFSETTO:-0400
TZNAME:EDT
DTSTART:20240310T070000
END:DAYLIGHT
BEGIN:STANDARD
TZOFFSETFROM:-0400
TZOFFSETTO:-0500
TZNAME:EST
DTSTART:20241103T060000
END:STANDARD
BEGIN:DAYLIGHT
TZOFFSETFROM:-0500
TZOFFSETTO:-0400
TZNAME:EDT
DTSTART:20250309T070000
END:DAYLIGHT
BEGIN:STANDARD
TZOFFSETFROM:-0400
TZOFFSETTO:-0500
TZNAME:EST
DTSTART:20251102T060000
END:STANDARD
BEGIN:DAYLIGHT
TZOFFSETFROM:-0500
TZOFFSETTO:-0400
TZNAME:EDT
DTSTART:20260308T070000
END:DAYLIGHT
BEGIN:STANDARD
TZOFFSETFROM:-0400
TZOFFSETTO:-0500
TZNAME:EST
DTSTART:20261101T060000
END:STANDARD
END:VTIMEZONE
BEGIN:VEVENT
DTSTART;TZID=America/Detroit:20250208T100000
DTEND;TZID=America/Detroit:20250208T110000
DTSTAMP:20260420T183954
CREATED:20250130T015344Z
LAST-MODIFIED:20260225T182425Z
UID:2657-1739008800-1739012400@www.greenspaceromeo.org
SUMMARY:Important Green Space Community Meeting
DESCRIPTION:We invite you to an important community meeting to discuss the future of Green Space on Prospect Street. Decisions need to be made very soon\, and we want to make sure we are moving forward together as a community. Please mark your calendars and expect to receive details and a short survey in the next few days. Thank you again for your support!
URL:https://www.greenspaceromeo.org/event/important-green-space-community-meeting/
LOCATION:Community Center\, West Room\, 361 Morton Street\, Romeo\, MI\, 48065\, United States
ATTACH;FMTTYPE=image/webp:https://www.greenspaceromeo.org/wp-content/uploads/2024/03/Green_Space_Graphic_Photo_1-6_Page_1.webp
END:VEVENT
END:VCALENDAR